BEGIN:VCALENDAR
VERSION:2.0
PRODID:icalendar-ruby
CALSCALE:GREGORIAN
METHOD:PUBLISH
BEGIN:VEVENT
DTSTAMP:20260424T144431Z
UID:10-1025052@tdsalem.com
DTSTART:20250831T170000Z
DTEND:20250901T190000Z
CLASS:PUBLIC
CREATED:20260424T064123
DESCRIPTION:
LAST-MODIFIED:20260424T064123
LOCATION:5010 Acts Way NE\, Salem\, OR 97317
SUMMARY:Sunday Service A
URL;VALUE=URI:https://tdsalem.com/events/sunday-service-a--10/2025-08-31
END:VEVENT
END:VCALENDAR
