BEGIN:VCALENDAR
VERSION:2.0
PRODID:icalendar-ruby
CALSCALE:GREGORIAN
METHOD:PUBLISH
BEGIN:VEVENT
DTSTAMP:20260423T094229Z
UID:10-1019841@tdsalem.com
DTSTART:20260322T170000Z
DTEND:20260323T190000Z
CLASS:PUBLIC
CREATED:20260422T181712
DESCRIPTION:
LAST-MODIFIED:20260422T181712
LOCATION:5010 Acts Way NE\, Salem\, OR 97317
SUMMARY:Sunday Service A
URL;VALUE=URI:https://tdsalem.com/events/sunday-service-a--10/2026-03-22
END:VEVENT
END:VCALENDAR
