BEGIN:VCALENDAR
VERSION:2.0
PRODID:icalendar-ruby
CALSCALE:GREGORIAN
METHOD:PUBLISH
BEGIN:VEVENT
DTSTAMP:20260420T122132Z
UID:11-1008942@tdsalem.com
DTSTART:20260308T193000Z
DTEND:20260308T213000Z
CLASS:PUBLIC
CREATED:20260420T034054
DESCRIPTION:
LAST-MODIFIED:20260420T034054
LOCATION:5010 Acts Way NE\, Salem\, OR 97317
SUMMARY:Sunday Service B 
URL;VALUE=URI:https://tdsalem.com/events/sunday-service-b--11/2026-03-08
END:VEVENT
END:VCALENDAR
